BEGIN:VCALENDAR
VERSION:2.0
PRODID:-//Level One - ECPv6.15.18//NONSGML v1.0//EN
CALSCALE:GREGORIAN
METHOD:PUBLISH
X-WR-CALNAME:Level One
X-ORIGINAL-URL:https://levelonesydney.com.au
X-WR-CALDESC:Events for Level One
REFRESH-INTERVAL;VALUE=DURATION:PT1H
X-Robots-Tag:noindex
X-PUBLISHED-TTL:PT1H
BEGIN:VTIMEZONE
TZID:Australia/Sydney
BEGIN:STANDARD
TZOFFSETFROM:+1100
TZOFFSETTO:+1000
TZNAME:AEST
DTSTART:20270403T160000
END:STANDARD
BEGIN:DAYLIGHT
TZOFFSETFROM:+1000
TZOFFSETTO:+1100
TZNAME:AEDT
DTSTART:20271002T160000
END:DAYLIGHT
BEGIN:STANDARD
TZOFFSETFROM:+1100
TZOFFSETTO:+1000
TZNAME:AEST
DTSTART:20280401T160000
END:STANDARD
BEGIN:DAYLIGHT
TZOFFSETFROM:+1000
TZOFFSETTO:+1100
TZNAME:AEDT
DTSTART:20280930T160000
END:DAYLIGHT
BEGIN:STANDARD
TZOFFSETFROM:+1100
TZOFFSETTO:+1000
TZNAME:AEST
DTSTART:20290331T160000
END:STANDARD
BEGIN:DAYLIGHT
TZOFFSETFROM:+1000
TZOFFSETTO:+1100
TZNAME:AEDT
DTSTART:20291006T160000
END:DAYLIGHT
END:VTIMEZONE
BEGIN:VEVENT
DTSTART;TZID=Australia/Sydney:20281106T190000
DTEND;TZID=Australia/Sydney:20281106T190000
DTSTAMP:20260424T013133
CREATED:20231114T023550Z
LAST-MODIFIED:20231221T215816Z
UID:10003610-1857150000-1857150000@levelonesydney.com.au
SUMMARY:Live Jazz
DESCRIPTION: \n \nfrom  \n\nEvery Monday night from 7pm \nExperience the best in live jazz every Monday at Potts Point Hotel. \nWhether you’re a beginner or a seasoned pro\, all musicians are welcome to join in and showcase their talent. \nJoin us for a night of great music and an inclusive atmosphere. \nSingers\, don’t forget to bring your own mic\, if you have one. \n \n\nHosted By\n\n\n \n\n\nLevel One \n \n\n02 9368 7333  \nView Organiser Website \ninfo@pottspointhotel.com.au  \n \n\n\n\n\n \n\n\n\n\n\nAdd to calendar  \n\n\n\nGoogle Calendar \niCalendar \nOutlook 365 \nOutlook Live
URL:https://levelonesydney.com.au/events/live-jazz/2028-11-06/
LOCATION:Level One\, Level 1\, Potts Point Hotel\, Potts Point\, NSW\, 2011\, Australia
CATEGORIES:Level One,Mondays,Sundays
ATTACH;FMTTYPE=image/webp:https://levelonesydney.com.au/storage/sites/2/2023/02/Untitled-design-13-jpg-rwUQgc.tmp_.webp
ORGANIZER;CN="Level One":MAILTO:info@pottspointhotel.com.au
END:VEVENT
BEGIN:VEVENT
DTSTART;TZID=Australia/Sydney:20281113T190000
DTEND;TZID=Australia/Sydney:20281113T190000
DTSTAMP:20260424T013133
CREATED:20231114T023550Z
LAST-MODIFIED:20231221T215816Z
UID:10003611-1857754800-1857754800@levelonesydney.com.au
SUMMARY:Live Jazz
DESCRIPTION: \n \nfrom  \n\nEvery Monday night from 7pm \nExperience the best in live jazz every Monday at Potts Point Hotel. \nWhether you’re a beginner or a seasoned pro\, all musicians are welcome to join in and showcase their talent. \nJoin us for a night of great music and an inclusive atmosphere. \nSingers\, don’t forget to bring your own mic\, if you have one. \n \n\nHosted By\n\n\n \n\n\nLevel One \n \n\n02 9368 7333  \nView Organiser Website \ninfo@pottspointhotel.com.au  \n \n\n\n\n\n \n\n\n\n\n\nAdd to calendar  \n\n\n\nGoogle Calendar \niCalendar \nOutlook 365 \nOutlook Live
URL:https://levelonesydney.com.au/events/live-jazz/2028-11-13/
LOCATION:Level One\, Level 1\, Potts Point Hotel\, Potts Point\, NSW\, 2011\, Australia
CATEGORIES:Level One,Mondays,Sundays
ATTACH;FMTTYPE=image/webp:https://levelonesydney.com.au/storage/sites/2/2023/02/Untitled-design-13-jpg-rwUQgc.tmp_.webp
ORGANIZER;CN="Level One":MAILTO:info@pottspointhotel.com.au
END:VEVENT
BEGIN:VEVENT
DTSTART;TZID=Australia/Sydney:20281120T190000
DTEND;TZID=Australia/Sydney:20281120T190000
DTSTAMP:20260424T013133
CREATED:20231114T023550Z
LAST-MODIFIED:20231221T215816Z
UID:10003625-1858359600-1858359600@levelonesydney.com.au
SUMMARY:Live Jazz
DESCRIPTION: \n \nfrom  \n\nEvery Monday night from 7pm \nExperience the best in live jazz every Monday at Potts Point Hotel. \nWhether you’re a beginner or a seasoned pro\, all musicians are welcome to join in and showcase their talent. \nJoin us for a night of great music and an inclusive atmosphere. \nSingers\, don’t forget to bring your own mic\, if you have one. \n \n\nHosted By\n\n\n \n\n\nLevel One \n \n\n02 9368 7333  \nView Organiser Website \ninfo@pottspointhotel.com.au  \n \n\n\n\n\n \n\n\n\n\n\nAdd to calendar  \n\n\n\nGoogle Calendar \niCalendar \nOutlook 365 \nOutlook Live
URL:https://levelonesydney.com.au/events/live-jazz/2028-11-20/
LOCATION:Level One\, Level 1\, Potts Point Hotel\, Potts Point\, NSW\, 2011\, Australia
CATEGORIES:Level One,Mondays,Sundays
ATTACH;FMTTYPE=image/webp:https://levelonesydney.com.au/storage/sites/2/2023/02/Untitled-design-13-jpg-rwUQgc.tmp_.webp
ORGANIZER;CN="Level One":MAILTO:info@pottspointhotel.com.au
END:VEVENT
BEGIN:VEVENT
DTSTART;TZID=Australia/Sydney:20281127T190000
DTEND;TZID=Australia/Sydney:20281127T190000
DTSTAMP:20260424T013133
CREATED:20231114T023550Z
LAST-MODIFIED:20231221T215816Z
UID:10003626-1858964400-1858964400@levelonesydney.com.au
SUMMARY:Live Jazz
DESCRIPTION: \n \nfrom  \n\nEvery Monday night from 7pm \nExperience the best in live jazz every Monday at Potts Point Hotel. \nWhether you’re a beginner or a seasoned pro\, all musicians are welcome to join in and showcase their talent. \nJoin us for a night of great music and an inclusive atmosphere. \nSingers\, don’t forget to bring your own mic\, if you have one. \n \n\nHosted By\n\n\n \n\n\nLevel One \n \n\n02 9368 7333  \nView Organiser Website \ninfo@pottspointhotel.com.au  \n \n\n\n\n\n \n\n\n\n\n\nAdd to calendar  \n\n\n\nGoogle Calendar \niCalendar \nOutlook 365 \nOutlook Live
URL:https://levelonesydney.com.au/events/live-jazz/2028-11-27/
LOCATION:Level One\, Level 1\, Potts Point Hotel\, Potts Point\, NSW\, 2011\, Australia
CATEGORIES:Level One,Mondays,Sundays
ATTACH;FMTTYPE=image/webp:https://levelonesydney.com.au/storage/sites/2/2023/02/Untitled-design-13-jpg-rwUQgc.tmp_.webp
ORGANIZER;CN="Level One":MAILTO:info@pottspointhotel.com.au
END:VEVENT
BEGIN:VEVENT
DTSTART;TZID=Australia/Sydney:20281204T190000
DTEND;TZID=Australia/Sydney:20281204T190000
DTSTAMP:20260424T013133
CREATED:20231114T023550Z
LAST-MODIFIED:20231221T215816Z
UID:10003627-1859569200-1859569200@levelonesydney.com.au
SUMMARY:Live Jazz
DESCRIPTION: \n \nfrom  \n\nEvery Monday night from 7pm \nExperience the best in live jazz every Monday at Potts Point Hotel. \nWhether you’re a beginner or a seasoned pro\, all musicians are welcome to join in and showcase their talent. \nJoin us for a night of great music and an inclusive atmosphere. \nSingers\, don’t forget to bring your own mic\, if you have one. \n \n\nHosted By\n\n\n \n\n\nLevel One \n \n\n02 9368 7333  \nView Organiser Website \ninfo@pottspointhotel.com.au  \n \n\n\n\n\n \n\n\n\n\n\nAdd to calendar  \n\n\n\nGoogle Calendar \niCalendar \nOutlook 365 \nOutlook Live
URL:https://levelonesydney.com.au/events/live-jazz/2028-12-04/
LOCATION:Level One\, Level 1\, Potts Point Hotel\, Potts Point\, NSW\, 2011\, Australia
CATEGORIES:Level One,Mondays,Sundays
ATTACH;FMTTYPE=image/webp:https://levelonesydney.com.au/storage/sites/2/2023/02/Untitled-design-13-jpg-rwUQgc.tmp_.webp
ORGANIZER;CN="Level One":MAILTO:info@pottspointhotel.com.au
END:VEVENT
BEGIN:VEVENT
DTSTART;TZID=Australia/Sydney:20281211T190000
DTEND;TZID=Australia/Sydney:20281211T190000
DTSTAMP:20260424T013133
CREATED:20231114T023550Z
LAST-MODIFIED:20231221T215816Z
UID:10003628-1860174000-1860174000@levelonesydney.com.au
SUMMARY:Live Jazz
DESCRIPTION: \n \nfrom  \n\nEvery Monday night from 7pm \nExperience the best in live jazz every Monday at Potts Point Hotel. \nWhether you’re a beginner or a seasoned pro\, all musicians are welcome to join in and showcase their talent. \nJoin us for a night of great music and an inclusive atmosphere. \nSingers\, don’t forget to bring your own mic\, if you have one. \n \n\nHosted By\n\n\n \n\n\nLevel One \n \n\n02 9368 7333  \nView Organiser Website \ninfo@pottspointhotel.com.au  \n \n\n\n\n\n \n\n\n\n\n\nAdd to calendar  \n\n\n\nGoogle Calendar \niCalendar \nOutlook 365 \nOutlook Live
URL:https://levelonesydney.com.au/events/live-jazz/2028-12-11/
LOCATION:Level One\, Level 1\, Potts Point Hotel\, Potts Point\, NSW\, 2011\, Australia
CATEGORIES:Level One,Mondays,Sundays
ATTACH;FMTTYPE=image/webp:https://levelonesydney.com.au/storage/sites/2/2023/02/Untitled-design-13-jpg-rwUQgc.tmp_.webp
ORGANIZER;CN="Level One":MAILTO:info@pottspointhotel.com.au
END:VEVENT
BEGIN:VEVENT
DTSTART;TZID=Australia/Sydney:20281218T190000
DTEND;TZID=Australia/Sydney:20281218T190000
DTSTAMP:20260424T013133
CREATED:20231114T023550Z
LAST-MODIFIED:20231221T215816Z
UID:10003629-1860778800-1860778800@levelonesydney.com.au
SUMMARY:Live Jazz
DESCRIPTION: \n \nfrom  \n\nEvery Monday night from 7pm \nExperience the best in live jazz every Monday at Potts Point Hotel. \nWhether you’re a beginner or a seasoned pro\, all musicians are welcome to join in and showcase their talent. \nJoin us for a night of great music and an inclusive atmosphere. \nSingers\, don’t forget to bring your own mic\, if you have one. \n \n\nHosted By\n\n\n \n\n\nLevel One \n \n\n02 9368 7333  \nView Organiser Website \ninfo@pottspointhotel.com.au  \n \n\n\n\n\n \n\n\n\n\n\nAdd to calendar  \n\n\n\nGoogle Calendar \niCalendar \nOutlook 365 \nOutlook Live
URL:https://levelonesydney.com.au/events/live-jazz/2028-12-18/
LOCATION:Level One\, Level 1\, Potts Point Hotel\, Potts Point\, NSW\, 2011\, Australia
CATEGORIES:Level One,Mondays,Sundays
ATTACH;FMTTYPE=image/webp:https://levelonesydney.com.au/storage/sites/2/2023/02/Untitled-design-13-jpg-rwUQgc.tmp_.webp
ORGANIZER;CN="Level One":MAILTO:info@pottspointhotel.com.au
END:VEVENT
END:VCALENDAR